BEGIN:VCALENDAR
VERSION:2.0
PRODID:-//God Mag - ECPv6.15.20//NONSGML v1.0//EN
CALSCALE:GREGORIAN
METHOD:PUBLISH
X-WR-CALNAME:God Mag
X-ORIGINAL-URL:https://godmag.de
X-WR-CALDESC:Veranstaltungen für God Mag
REFRESH-INTERVAL;VALUE=DURATION:PT1H
X-Robots-Tag:noindex
X-PUBLISHED-TTL:PT1H
BEGIN:VTIMEZONE
TZID:UTC
BEGIN:STANDARD
TZOFFSETFROM:+0000
TZOFFSETTO:+0000
TZNAME:UTC
DTSTART:20230101T000000
END:STANDARD
END:VTIMEZONE
BEGIN:VEVENT
DTSTART;VALUE=DATE:20240529
DTEND;VALUE=DATE:20240603
DTSTAMP:20260425T172731
CREATED:20240129T135000Z
LAST-MODIFIED:20241027T063555Z
UID:1193-1716940800-1717372799@godmag.de
SUMMARY:Deutscher Katholikentag
DESCRIPTION:Glaube\, Diskussion\, Fest: dazu begegnen sich Menschen aller Generationen fünf Tage lang\, alle zwei Jahre\, in einer anderen Stadt. Für den 103. Deutschen Katholikentag werden bis zu 20.000 Teilnehmende aus Deutschland\, Europa und der Welt erwartet. Darunter auch Menschen anderer Konfessionen und Religionen oder solche\, die mit dem Katholikentag zwar nicht den Glauben\, aber die gesellschaftlichen Anliegen teilen.
URL:https://godmag.de/event/deutscher-katholikentag/
LOCATION:Erfurt
CATEGORIES:Besinnungstage,Demo,Festival,Kongress,Wallfahrt
END:VEVENT
END:VCALENDAR